BEGIN:VCALENDAR
VERSION:2.0
PRODID:-//MENA FCCG - ECPv6.13.2.1//NONSGML v1.0//EN
CALSCALE:GREGORIAN
METHOD:PUBLISH
X-ORIGINAL-URL:https://mena-fccg.magpiex.co.uk
X-WR-CALDESC:Events for MENA FCCG
REFRESH-INTERVAL;VALUE=DURATION:PT1H
X-Robots-Tag:noindex
X-PUBLISHED-TTL:PT1H
BEGIN:VTIMEZONE
TZID:Europe/London
BEGIN:DAYLIGHT
TZOFFSETFROM:+0000
TZOFFSETTO:+0100
TZNAME:BST
DTSTART:20180325T010000
END:DAYLIGHT
BEGIN:STANDARD
TZOFFSETFROM:+0100
TZOFFSETTO:+0000
TZNAME:GMT
DTSTART:20181028T010000
END:STANDARD
BEGIN:DAYLIGHT
TZOFFSETFROM:+0000
TZOFFSETTO:+0100
TZNAME:BST
DTSTART:20190331T010000
END:DAYLIGHT
BEGIN:STANDARD
TZOFFSETFROM:+0100
TZOFFSETTO:+0000
TZNAME:GMT
DTSTART:20191027T010000
END:STANDARD
BEGIN:DAYLIGHT
TZOFFSETFROM:+0000
TZOFFSETTO:+0100
TZNAME:BST
DTSTART:20200329T010000
END:DAYLIGHT
BEGIN:STANDARD
TZOFFSETFROM:+0100
TZOFFSETTO:+0000
TZNAME:GMT
DTSTART:20201025T010000
END:STANDARD
BEGIN:DAYLIGHT
TZOFFSETFROM:+0000
TZOFFSETTO:+0100
TZNAME:BST
DTSTART:20210328T010000
END:DAYLIGHT
BEGIN:STANDARD
TZOFFSETFROM:+0100
TZOFFSETTO:+0000
TZNAME:GMT
DTSTART:20211031T010000
END:STANDARD
BEGIN:DAYLIGHT
TZOFFSETFROM:+0000
TZOFFSETTO:+0100
TZNAME:BST
DTSTART:20220327T010000
END:DAYLIGHT
BEGIN:STANDARD
TZOFFSETFROM:+0100
TZOFFSETTO:+0000
TZNAME:GMT
DTSTART:20221030T010000
END:STANDARD
BEGIN:DAYLIGHT
TZOFFSETFROM:+0000
TZOFFSETTO:+0100
TZNAME:BST
DTSTART:20230326T010000
END:DAYLIGHT
BEGIN:STANDARD
TZOFFSETFROM:+0100
TZOFFSETTO:+0000
TZNAME:GMT
DTSTART:20231029T010000
END:STANDARD
BEGIN:DAYLIGHT
TZOFFSETFROM:+0000
TZOFFSETTO:+0100
TZNAME:BST
DTSTART:20240331T010000
END:DAYLIGHT
BEGIN:STANDARD
TZOFFSETFROM:+0100
TZOFFSETTO:+0000
TZNAME:GMT
DTSTART:20241027T010000
END:STANDARD
END:VTIMEZONE
BEGIN:VTIMEZONE
TZID:Asia/Amman
BEGIN:DAYLIGHT
TZOFFSETFROM:+0200
TZOFFSETTO:+0300
TZNAME:EEST
DTSTART:20220224T220000
END:DAYLIGHT
BEGIN:STANDARD
TZOFFSETFROM:+0300
TZOFFSETTO:+0300
TZNAME:+03
DTSTART:20221027T220000
END:STANDARD
END:VTIMEZONE
BEGIN:VEVENT
DTSTART;TZID=Europe/London:20240708T100000
DTEND;TZID=Europe/London:20240708T120000
DTSTAMP:20260422T124151
CREATED:20240628T142640Z
LAST-MODIFIED:20240715T113617Z
UID:3193-1720432800-1720440000@mena-fccg.magpiex.co.uk
SUMMARY:RUSI Delivering key Webinar on Russia Sanctions
DESCRIPTION:As part of MENA FCCG’s outreach to enhance financial crime literacy across the MENA region and beyond\, Royal United Services Institute (RUSI)\, the world’s oldest and the UK’s leading defense and security think tank\, has agreed to present a two-hour webinar on Monday\, July 8 from 10:00 AM – 12:00 PM UK time on Russia sanctions. \nSpecifically\, RUSI experts will update participants on the current sanctions regimes affecting the Russian Federation\, as well as relevant – publicly reported – sanctions evasion cases involving the private sector to which participants should be alert in case they face being inadvertently involved in similar cases themselves. This section will also feature the advisories on Russia’s abuse of the global financial and trade systems published by the US\, EU and UK on key risks for financial institutions. Key topics relevant to the MENA region might include the trade in gold\, correspondent banking and the abuse of corporate structures and enablers of sanctions evasion. \nRUSI experts will also discuss the typical responses to Russia sanctions from the private sector and best practices from around the world\, including examples of enhanced KYC and due diligence processes in the context of the MENA region. Case studies will be used to engage participants\, and they will be encouraged to contribute their own experiences and share their challenges. \nClick to view the invitation letter that contains the agenda. \nClick to view presentation material
URL:https://mena-fccg.magpiex.co.uk/event/rusi-delivering-key-webinar-on-russia-sanctions/
END:VEVENT
BEGIN:VEVENT
DTSTART;TZID=Asia/Amman:20221004T150000
DTEND;TZID=Asia/Amman:20221004T160000
DTSTAMP:20260422T124151
CREATED:20220920T132003Z
LAST-MODIFIED:20220930T133524Z
UID:2268-1664895600-1664899200@mena-fccg.magpiex.co.uk
SUMMARY:Save the Date for Our Upcoming Webinar 04 October 2022: Implications of the Evolving Russia Sanctions Campaign for the MENA Region 
DESCRIPTION:The evolving multilateral sanctions campaign against Russia in response to its 2022 invasion of Ukraine has been unprecedented in its complexity\, speed\, and impact.  As this campaign continues to expand and evolve\, financial institutions\, other vulnerable industries\, and jurisdictional authorities around the world are grappling to understand sanctions against Russia and meet elevated compliance and risk management expectations\, protect their reputations\, and safeguard collective security. \nWhat do these developments mean for our MENA region and our financial institutions? \nK2 Integrity is at the forefront of efforts to assist financial institutions and countries around the world understand and meet evolving expectations from authorities\, correspondents\, suppliers\, and global markets subject to those jurisdictions sanctioning Russia’s war against Ukraine.  As a key part of these efforts\, K2 Integrity has partnered with the United States Department of State to engage public and private sector stakeholders in multiple countries through an ongoing global outreach\, training\, and certification program. \nWe are excited to bring K2 Integrity’s experience and expertise on these important\, challenging\, and timely issues to our MENA Financial Crime Compliance Group and Union of Arab Banks Membership.  We invite you to attend a one-hour webinar where K2 Integrity’s globally recognized experts will explain what these issues mean for financial institutions across the MENA region.  In particular\, K2 Integrity’s panel of experts will provide an overview of the following key topics: \n\nThe types of sanctions the United States (U.S.)\, European Union (EU)\, the United Kingdom (UK)\, and other authorities are imposing against Russia—and why\nThe extraterritorial application and expansive jurisdictional reach of U.S.\, EU\, and other sanctions authorities\nHow jurisdictional authorities\, financial institutions\, and other private sector and non-profit sector organizations are implementing\, overseeing\, and enforcing these sanctions—and the challenges they are encountering in doing so\nThe specific ways in which sanctioned Russian entities typically attempt to evade sanctions or avoid prohibitions on specified activities—and specific strategies to mitigate sanctions evasion\nHow MENA financial institutions and countries can protect critical financial and economic relationships with the United States and the multilateral coalition of countries sanctioning Russia’s war against Ukraine\n\nCome join this important session with K2 Integrity expert panelists Chip Poncy\, Global Head of Financial Integrity\, Mariano Federici\, Senior Managing Director\, and Katya Hazard\, Associate Managing Director and Head of Sanctions – moderated by Chahdan Jebeyli\, Group Head Legal & Compliance\, Bank Audi\, Lebanon. \nPanelists\n\n\n \nChip Poncy\nK2 Integrity Global Head of Financial Integrity \n+1 202 558 0960\ncponcy@k2integrity.com \n\n\n \nMariano Federici\nK2 Integrity Senior Managing Director \n+1 202 558 0960\nmfederici@k2integrity.com \n\n\n \nKatya Hazard\nK2 Integrity Associate Managing Director and Head of Sanctions \n+1 202 689 4161\nekhazard@k2integrity.com
URL:https://mena-fccg.magpiex.co.uk/event/webinar-invitation-implications-evolving-russia-sanctions-mena-region/
END:VEVENT
BEGIN:VEVENT
DTSTART;TZID=Europe/London:20180802T153000
DTEND;TZID=Europe/London:20180802T170000
DTSTAMP:20260422T124151
CREATED:20180731T120219Z
LAST-MODIFIED:20180731T120730Z
UID:1084-1533223800-1533229200@mena-fccg.magpiex.co.uk
SUMMARY:Threat Finance Typologies and Sanctions Webinar
DESCRIPTION:  \nThe MENA Financial Crime Compliance Group (FCCG) in cooperation with Thomson Reuters are leading a live complimentary webinar “Threat Finance Typologies and Sanctions” on Thursday 2 August at 3:30 PM GST (UAE) that includes: \n\nExpert insight into past\, current and future terrorist financing trends.\nLatest updates around global sanctions related to terrorist financing.\nExamples of best practice for managing terrorist financing risk for your institution\n\n  \nSpeakers: \n\nMr. David Shepherd (Moderator) MENA FCCG Executive Secretary\, and Head of Market Development Risk MENA\, Thomson Reuters.\nMr. Ghaith Zubi\, Expert ISIL / Al-Qaida / Taliban Monitoring Team\, United Nations Security Council.\nMr. Jesse Spiro\, Global Head of Threat Finance & Emerging Risks\, Thomson Reuters\n\n  \nREGISTER \n 
URL:https://mena-fccg.magpiex.co.uk/event/threat-finance-typologies-sanctions/
END:VEVENT
END:VCALENDAR